BEGIN:VCALENDAR
VERSION:2.0
PRODID:-//ASI Community Center &amp; Park - ECPv6.15.17//NONSGML v1.0//EN
CALSCALE:GREGORIAN
METHOD:PUBLISH
X-WR-CALNAME:ASI Community Center &amp; Park
X-ORIGINAL-URL:https://www.areaseniorsinc.org
X-WR-CALDESC:Events for ASI Community Center &amp; Park
REFRESH-INTERVAL;VALUE=DURATION:PT1H
X-Robots-Tag:noindex
X-PUBLISHED-TTL:PT1H
BEGIN:VTIMEZONE
TZID:America/Detroit
BEGIN:DAYLIGHT
TZOFFSETFROM:-0500
TZOFFSETTO:-0400
TZNAME:EDT
DTSTART:20240310T070000
END:DAYLIGHT
BEGIN:STANDARD
TZOFFSETFROM:-0400
TZOFFSETTO:-0500
TZNAME:EST
DTSTART:20241103T060000
END:STANDARD
BEGIN:DAYLIGHT
TZOFFSETFROM:-0500
TZOFFSETTO:-0400
TZNAME:EDT
DTSTART:20250309T070000
END:DAYLIGHT
BEGIN:STANDARD
TZOFFSETFROM:-0400
TZOFFSETTO:-0500
TZNAME:EST
DTSTART:20251102T060000
END:STANDARD
BEGIN:DAYLIGHT
TZOFFSETFROM:-0500
TZOFFSETTO:-0400
TZNAME:EDT
DTSTART:20260308T070000
END:DAYLIGHT
BEGIN:STANDARD
TZOFFSETFROM:-0400
TZOFFSETTO:-0500
TZNAME:EST
DTSTART:20261101T060000
END:STANDARD
END:VTIMEZONE
BEGIN:VEVENT
DTSTART;TZID=America/Detroit:20251125T090000
DTEND;TZID=America/Detroit:20251125T130000
DTSTAMP:20260421T221422
CREATED:20250117T141325Z
LAST-MODIFIED:20250117T145324Z
UID:10001741-1764061200-1764075600@www.areaseniorsinc.org
SUMMARY:FREE Haircuts for Veterans!!
DESCRIPTION:Sharon Nicholas and/or Annie Quante will be onsite providing FREE haircuts to Veterans!\nThe last Tuesday (9 am – 1 pm) and Friday (12 – 4 pm) of every month!  Just show up and get your free haircut.\nThanks to these lovely ladies for being generous to our Veterans that so deserve it.
URL:https://www.areaseniorsinc.org/event/free-haircuts-for-veterans/2025-11-25/
LOCATION:ASI Community Center & Park\, 102 Maple Street\, Bellaire\, MI\, 49615\, United States
CATEGORIES:Activities,Other
ATTACH;FMTTYPE=image/jpeg:https://www.areaseniorsinc.org/dev/wp-content/uploads/2025/01/hair-cut.jpg
GEO:44.9755063;-85.2049971
X-APPLE-STRUCTURED-LOCATION;VALUE=URI;X-ADDRESS=ASI Community Center & Park 102 Maple Street Bellaire MI 49615 United States;X-APPLE-RADIUS=500;X-TITLE=102 Maple Street:geo:-85.2049971,44.9755063
END:VEVENT
END:VCALENDAR